BEGIN:VCALENDAR
VERSION:2.0
PRODID:-//Al Minhal Academy - ECPv6.15.14//NONSGML v1.0//EN
CALSCALE:GREGORIAN
METHOD:PUBLISH
X-WR-CALNAME:Al Minhal Academy
X-ORIGINAL-URL:https://minhalacademy.com
X-WR-CALDESC:Events for Al Minhal Academy
REFRESH-INTERVAL;VALUE=DURATION:PT1H
X-Robots-Tag:noindex
X-PUBLISHED-TTL:PT1H
BEGIN:VTIMEZONE
TZID:America/New_York
BEGIN:DAYLIGHT
TZOFFSETFROM:-0500
TZOFFSETTO:-0400
TZNAME:EDT
DTSTART:20250309T070000
END:DAYLIGHT
BEGIN:STANDARD
TZOFFSETFROM:-0400
TZOFFSETTO:-0500
TZNAME:EST
DTSTART:20251102T060000
END:STANDARD
BEGIN:DAYLIGHT
TZOFFSETFROM:-0500
TZOFFSETTO:-0400
TZNAME:EDT
DTSTART:20260308T070000
END:DAYLIGHT
BEGIN:STANDARD
TZOFFSETFROM:-0400
TZOFFSETTO:-0500
TZNAME:EST
DTSTART:20261101T060000
END:STANDARD
BEGIN:DAYLIGHT
TZOFFSETFROM:-0500
TZOFFSETTO:-0400
TZNAME:EDT
DTSTART:20270314T070000
END:DAYLIGHT
BEGIN:STANDARD
TZOFFSETFROM:-0400
TZOFFSETTO:-0500
TZNAME:EST
DTSTART:20271107T060000
END:STANDARD
END:VTIMEZONE
BEGIN:VEVENT
DTSTART;TZID=America/New_York:20260210T191500
DTEND;TZID=America/New_York:20260210T210000
DTSTAMP:20260423T075959
CREATED:20260116T192318Z
LAST-MODIFIED:20260209T125340Z
UID:669-1770750900-1770757200@minhalacademy.com
SUMMARY:Tuesday Night Halaqa at Al-Minhal Academy
DESCRIPTION:Looking for a warm and welcoming way to spend your Tuesday evening? Join us every Tuesday at 7:00 PM (after Isha) at Al-Minhal Academy for our Weekly Tuesday Night Halaqa. \nThis gathering is a beautiful opportunity to connect with the community\, strengthen your faith\, and engage in meaningful Islamic discussion in a relaxed and friendly environment. Enjoy thoughtful conversation\, spiritual reflection\, and chai as we come together to learn and grow. \nWe encourage everyone to bring a dish to share and help make it a true community dinner. Whether you attend alone\, with friends\, or with family\, you will find a welcoming space filled with connection\, reflection\, and purpose.
URL:https://minhalacademy.com/event/tuesday-night-halaqa-at-al-minhal-academy-2/
LOCATION:438 Ganttown Rd\, Unit A3\, A4\, A5 and B3\, Sewell NJ\, 08080\, United States
ORGANIZER;CN="Al Minhal Academy":MAILTO:alminhalacademy@gmail.com
END:VEVENT
BEGIN:VEVENT
DTSTART;VALUE=DATE:20260204
DTEND;VALUE=DATE:20260301
DTSTAMP:20260423T075959
CREATED:20260203T204046Z
LAST-MODIFIED:20260203T204315Z
UID:720-1770163200-1772323199@minhalacademy.com
SUMMARY:Sponsor an Iftar this Ramadan at Al-Minhal Academy
DESCRIPTION:Feed a fasting soul.\nEarn a reward that continues. 🤍 \nThis Ramadan\, sponsor an iftar at Al-Minhal Academy and be part of a sadaqah that reaches hearts and homes. \nEvery Friday\, Saturday & Sunday\, families and community members gather to break their fast together — your support makes it possible. \n✨ One iftar.\n✨ Shared by many.\n✨ Reward multiplied by Allah. \nYou may sponsor:\n• Full Iftar for $1800\n• 2 families share for $900 each\n• 3 families share for $600 each \nAl-Minhal Academy is committed to serving the community with sincerity\, care\, and transparency. \n📞 Confirm your booking with Dr. Saira:\n856-725-1186
URL:https://minhalacademy.com/event/sponsor-an-iftar-this-ramadan-at-al-minhal-academy/
LOCATION:438 Ganttown Rd\, Unit A3\, A4\, A5 and B3\, Sewell NJ\, 08080\, United States
ORGANIZER;CN="Al Minhal Academy":MAILTO:alminhalacademy@gmail.com
END:VEVENT
BEGIN:VEVENT
DTSTART;TZID=America/New_York:20260123T130000
DTEND;TZID=America/New_York:20260123T133000
DTSTAMP:20260423T075959
CREATED:20260116T193600Z
LAST-MODIFIED:20260116T193633Z
UID:674-1769173200-1769175000@minhalacademy.com
SUMMARY:Friday Khutbah
DESCRIPTION:Join us for Jummah Khutbah and Prayer at Al-Minhal Academy. \n🕙 Time: 1:00 PM – 1:30 PM\nTake a moment from your week to reconnect with Allah\, reflect on the khutbah\, and pray in congregation with the community. All brothers are welcome. \nMay Allah accept our prayers and bring barakah to our gathering.
URL:https://minhalacademy.com/event/674/
LOCATION:438 Ganttown Rd\, Unit A3\, A4\, A5 and B3\, Sewell NJ\, 08080\, United States
ORGANIZER;CN="Al Minhal Academy":MAILTO:alminhalacademy@gmail.com
END:VEVENT
BEGIN:VEVENT
DTSTART;TZID=America/New_York:20260211T120000
DTEND;TZID=America/New_York:20260211T120000
DTSTAMP:20260423T075959
CREATED:20260209T125111Z
LAST-MODIFIED:20260209T125111Z
UID:741-1770811200-1770811200@minhalacademy.com
SUMMARY:Mommy & Me
DESCRIPTION:Sometimes the most meaningful moments are the quiet ones—when a mother slows down and truly connects with her child.\n\n\nOur Mommy & Me Session at Al-Minhal Academy is designed to create a warm\, joyful space where mothers and little ones can bond through play\, presence\, and shared smiles. It’s more than an activity; it’s a moment of togetherness you’ll both remember.\n\n\nJoin us Wednesday\, February 11 at 12:00 PM\, for a nurturing experience tailored for children 4 months to 5 years old.\n\n\n Free session | Registration required\nSecure your spot today and be part of a beautiful community moment.\n\n\n 438 Ganttown Rd\, Unit A3\, A4\, A5 & B3\, Sewell\, NJ 08080\n 856-278-0275\n https://form.jotform.com/253075637410454
URL:https://minhalacademy.com/event/mommy-me/
LOCATION:438 Ganttown Rd\, Unit A3\, A4\, A5 and B3\, Sewell NJ\, 08080\, United States
ORGANIZER;CN="Al Minhal Academy":MAILTO:alminhalacademy@gmail.com
END:VEVENT
END:VCALENDAR